BEGIN:VCALENDAR
PRODID:-//eluceo/ical//2.0/EN
VERSION:2.0
CALSCALE:GREGORIAN
BEGIN:VEVENT
UID:f54959d5026ff4044c5699a487caaa56
DTSTAMP:20260422T105448Z
SUMMARY:AERO 2026 | Business Aviation Career Panel - Die Vielfalt der Karri
 erechancen für junge Menschen in der BizAv
DESCRIPTION:Tagesprogramm AERO 2026 - Business Aviation Career Panel - Die 
 Vielfalt der Karrierechancen für junge Menschen in der BizAv\nOrt: AERO B
 usiness Aviation Dome Stage\n\nFairnamic GmbH\nNeue Messe 1 \n88046 Friedr
 ichshafen \nGermany \n\nTelefon +49 7541 959 95 0 \nFax +49 7541 959 95 10
  \n\nGoogle Maps Route: \nhttp://goo.gl/maps/wXSL8
DTSTART;TZID=Europe/Berlin:20260424T100000
DTEND;TZID=Europe/Berlin:20260424T110000
LOCATION:AERO Business Aviation Dome Stage
ORGANIZER;CN=Fairnamic GmbH:mailto:info@fairnamic.com
END:VEVENT
BEGIN:VTIMEZONE
TZID:Europe/Berlin
BEGIN:STANDARD
DTSTART:20260101T000000
TZNAME:CET
TZOFFSETTO:+0100
TZOFFSETFROM:+0100
END:STANDARD
BEGIN:DAYLIGHT
DTSTART:20260329T030000
TZNAME:CEST
TZOFFSETTO:+0200
TZOFFSETFROM:+0100
END:DAYLIGHT
BEGIN:STANDARD
DTSTART:20261025T020000
TZNAME:CET
TZOFFSETTO:+0100
TZOFFSETFROM:+0200
END:STANDARD
END:VTIMEZONE
END:VCALENDAR
