BEGIN:VCALENDAR
PRODID:-//eluceo/ical//2.0/EN
VERSION:2.0
CALSCALE:GREGORIAN
BEGIN:VEVENT
UID:091a6d42b43e2bd5e8c09c4a21717918
DTSTAMP:20260421T023122Z
SUMMARY:AERO 2026 | Der richtige Umgang mit Kollisionswarnern
DESCRIPTION:Tagesprogramm AERO 2026 - Der richtige Umgang mit Kollisionswar
 nern\nOrt: Konferenz-Zentrum Ost\, Raum Berlin\n\nFairnamic GmbH\nNeue Mes
 se 1 \n88046 Friedrichshafen \nGermany \n\nTelefon +49 7541 959 95 0 \nFax
  +49 7541 959 95 10 \n\nGoogle Maps Route: \nhttp://goo.gl/maps/wXSL8
DTSTART;TZID=Europe/Berlin:20260423T110000
DTEND;TZID=Europe/Berlin:20260423T120000
LOCATION:Konferenz-Zentrum Ost\, Raum Berlin
ORGANIZER;CN=Fairnamic GmbH:mailto:info@fairnamic.com
END:VEVENT
BEGIN:VTIMEZONE
TZID:Europe/Berlin
BEGIN:STANDARD
DTSTART:20260101T000000
TZNAME:CET
TZOFFSETTO:+0100
TZOFFSETFROM:+0100
END:STANDARD
BEGIN:DAYLIGHT
DTSTART:20260329T030000
TZNAME:CEST
TZOFFSETTO:+0200
TZOFFSETFROM:+0100
END:DAYLIGHT
BEGIN:STANDARD
DTSTART:20261025T020000
TZNAME:CET
TZOFFSETTO:+0100
TZOFFSETFROM:+0200
END:STANDARD
END:VTIMEZONE
END:VCALENDAR
