BEGIN:VCALENDAR
PRODID:-//eluceo/ical//2.0/EN
VERSION:2.0
CALSCALE:GREGORIAN
BEGIN:VEVENT
UID:40170fad41736a4ec840a2cac3b9a381
DTSTAMP:20260421T023239Z
SUMMARY:AERO 2026 | Was nützt mir ein IFR Rating und wie erhalte ich es ?
DESCRIPTION:Tagesprogramm AERO 2026 - Was nützt mir ein IFR Rating und wie
  erhalte ich es ?\nOrt: Konferenz-Zentrum Ost\, Raum Bern\n\nFairnamic Gmb
 H\nNeue Messe 1 \n88046 Friedrichshafen \nGermany \n\nTelefon +49 7541 959
  95 0 \nFax +49 7541 959 95 10 \n\nGoogle Maps Route: \nhttp://goo.gl/maps
 /wXSL8
DTSTART;TZID=Europe/Berlin:20260425T110000
DTEND;TZID=Europe/Berlin:20260425T120000
LOCATION:Konferenz-Zentrum Ost\, Raum Bern
ORGANIZER;CN=Fairnamic GmbH:mailto:info@fairnamic.com
END:VEVENT
BEGIN:VTIMEZONE
TZID:Europe/Berlin
BEGIN:STANDARD
DTSTART:20260101T000000
TZNAME:CET
TZOFFSETTO:+0100
TZOFFSETFROM:+0100
END:STANDARD
BEGIN:DAYLIGHT
DTSTART:20260329T030000
TZNAME:CEST
TZOFFSETTO:+0200
TZOFFSETFROM:+0100
END:DAYLIGHT
BEGIN:STANDARD
DTSTART:20261025T020000
TZNAME:CET
TZOFFSETTO:+0100
TZOFFSETFROM:+0200
END:STANDARD
END:VTIMEZONE
END:VCALENDAR
