BEGIN:VCALENDAR
PRODID:-//eluceo/ical//2.0/EN
VERSION:2.0
CALSCALE:GREGORIAN
BEGIN:VEVENT
UID:5bf4adba7616ec50c652cb88d6724aec
DTSTAMP:20260421T022801Z
SUMMARY:AERO 2026 | Stress Management for pilots
DESCRIPTION:Tagesprogramm AERO 2026 - Stress Management for pilots\nOrt: Ko
 nferenz-Zentrum Ost\, Raum Bern\n\nFairnamic GmbH\nNeue Messe 1 \n88046 Fr
 iedrichshafen \nGermany \n\nTelefon +49 7541 959 95 0 \nFax +49 7541 959 9
 5 10 \n\nGoogle Maps Route: \nhttp://goo.gl/maps/wXSL8
DTSTART;TZID=Europe/Berlin:20260422T120000
DTEND;TZID=Europe/Berlin:20260422T130000
LOCATION:Konferenz-Zentrum Ost\, Raum Bern
ORGANIZER;CN=Fairnamic GmbH:mailto:info@fairnamic.com
END:VEVENT
BEGIN:VTIMEZONE
TZID:Europe/Berlin
BEGIN:STANDARD
DTSTART:20260101T000000
TZNAME:CET
TZOFFSETTO:+0100
TZOFFSETFROM:+0100
END:STANDARD
BEGIN:DAYLIGHT
DTSTART:20260329T030000
TZNAME:CEST
TZOFFSETTO:+0200
TZOFFSETFROM:+0100
END:DAYLIGHT
BEGIN:STANDARD
DTSTART:20261025T020000
TZNAME:CET
TZOFFSETTO:+0100
TZOFFSETFROM:+0200
END:STANDARD
END:VTIMEZONE
END:VCALENDAR
