BEGIN:VCALENDAR
PRODID:-//eluceo/ical//2.0/EN
VERSION:2.0
CALSCALE:GREGORIAN
BEGIN:VEVENT
UID:e5672995b046679abb47ba8e28fecebe
DTSTAMP:20260421T023011Z
SUMMARY:AERO 2026 | Awareness 2025/2026  - Fakten / Aktuelle Themen und Fal
 lstricke in Bezug auf ein sicheres Fliegen.
DESCRIPTION:Tagesprogramm AERO 2026 - Awareness 2025/2026  - Fakten / Aktue
 lle Themen und Fallstricke in Bezug auf ein sicheres Fliegen.\nOrt: Konfer
 enz-Zentrum Ost\, Raum Paris\n\nFairnamic GmbH\nNeue Messe 1 \n88046 Fried
 richshafen \nGermany \n\nTelefon +49 7541 959 95 0 \nFax +49 7541 959 95 1
 0 \n\nGoogle Maps Route: \nhttp://goo.gl/maps/wXSL8
DTSTART;TZID=Europe/Berlin:20260423T150000
DTEND;TZID=Europe/Berlin:20260423T160000
LOCATION:Konferenz-Zentrum Ost\, Raum Paris
ORGANIZER;CN=Fairnamic GmbH:mailto:info@fairnamic.com
END:VEVENT
BEGIN:VTIMEZONE
TZID:Europe/Berlin
BEGIN:STANDARD
DTSTART:20260101T000000
TZNAME:CET
TZOFFSETTO:+0100
TZOFFSETFROM:+0100
END:STANDARD
BEGIN:DAYLIGHT
DTSTART:20260329T030000
TZNAME:CEST
TZOFFSETTO:+0200
TZOFFSETFROM:+0100
END:DAYLIGHT
BEGIN:STANDARD
DTSTART:20261025T020000
TZNAME:CET
TZOFFSETTO:+0100
TZOFFSETFROM:+0200
END:STANDARD
END:VTIMEZONE
END:VCALENDAR
