BEGIN:VCALENDAR
PRODID:-//eluceo/ical//2.0/EN
VERSION:2.0
CALSCALE:GREGORIAN
BEGIN:VEVENT
UID:4ad3e08e9a5af81d309253737cfea96d
DTSTAMP:20260421T022950Z
SUMMARY:AERO 2026 | Human Factors 3 - Warum überrasche ich mich selbst? Ei
 n vertiefender Blick in das menschliche Verhalten!
DESCRIPTION:Tagesprogramm AERO 2026 - Human Factors 3 - Warum überrasche i
 ch mich selbst? Ein vertiefender Blick in das menschliche Verhalten!\nOrt:
  Konferenz-Zentrum Ost\, Raum Paris\n\nFairnamic GmbH\nNeue Messe 1 \n8804
 6 Friedrichshafen \nGermany \n\nTelefon +49 7541 959 95 0 \nFax +49 7541 9
 59 95 10 \n\nGoogle Maps Route: \nhttp://goo.gl/maps/wXSL8
DTSTART;TZID=Europe/Berlin:20260424T130000
DTEND;TZID=Europe/Berlin:20260424T140000
LOCATION:Konferenz-Zentrum Ost\, Raum Paris
ORGANIZER;CN=Fairnamic GmbH:mailto:info@fairnamic.com
END:VEVENT
BEGIN:VTIMEZONE
TZID:Europe/Berlin
BEGIN:STANDARD
DTSTART:20260101T000000
TZNAME:CET
TZOFFSETTO:+0100
TZOFFSETFROM:+0100
END:STANDARD
BEGIN:DAYLIGHT
DTSTART:20260329T030000
TZNAME:CEST
TZOFFSETTO:+0200
TZOFFSETFROM:+0100
END:DAYLIGHT
BEGIN:STANDARD
DTSTART:20261025T020000
TZNAME:CET
TZOFFSETTO:+0100
TZOFFSETFROM:+0200
END:STANDARD
END:VTIMEZONE
END:VCALENDAR
