BEGIN:VCALENDAR
PRODID:-//eluceo/ical//2.0/EN
VERSION:2.0
CALSCALE:GREGORIAN
BEGIN:VEVENT
UID:6ae21479b00a5c1de8198829419030d2
DTSTAMP:20260421T023409Z
SUMMARY:AERO 2026 | FIS D-A-CH Unterschiede\, Ergänzungen und Zusammenarbe
 it
DESCRIPTION:Tagesprogramm AERO 2026 - FIS D-A-CH Unterschiede\, Ergänzunge
 n und Zusammenarbeit\nOrt: AERO Conference Stage Foyer Ost\n\nFairnamic Gm
 bH\nNeue Messe 1 \n88046 Friedrichshafen \nGermany \n\nTelefon +49 7541 95
 9 95 0 \nFax +49 7541 959 95 10 \n\nGoogle Maps Route: \nhttp://goo.gl/map
 s/wXSL8
DTSTART;TZID=Europe/Berlin:20260424T110000
DTEND;TZID=Europe/Berlin:20260424T123000
LOCATION:AERO Conference Stage Foyer Ost
ORGANIZER;CN=Fairnamic GmbH:mailto:info@fairnamic.com
END:VEVENT
BEGIN:VTIMEZONE
TZID:Europe/Berlin
BEGIN:STANDARD
DTSTART:20260101T000000
TZNAME:CET
TZOFFSETTO:+0100
TZOFFSETFROM:+0100
END:STANDARD
BEGIN:DAYLIGHT
DTSTART:20260329T030000
TZNAME:CEST
TZOFFSETTO:+0200
TZOFFSETFROM:+0100
END:DAYLIGHT
BEGIN:STANDARD
DTSTART:20261025T020000
TZNAME:CET
TZOFFSETTO:+0100
TZOFFSETFROM:+0200
END:STANDARD
END:VTIMEZONE
END:VCALENDAR
