BEGIN:VCALENDAR
PRODID:-//eluceo/ical//2.0/EN
VERSION:2.0
CALSCALE:GREGORIAN
BEGIN:VEVENT
UID:619057a919219a9c24613f27d33f8a08
DTSTAMP:20260421T023257Z
SUMMARY:AERO 2026 | Wie erlange und erhalte ich die IFR Berechtigung? FTA 
 – Dr. Timm Preusser
DESCRIPTION:Tagesprogramm AERO 2026 - Wie erlange und erhalte ich die IFR B
 erechtigung? FTA – Dr. Timm Preusser\nOrt: Konferenz-Zentrum Ost\, Raum 
 Bern\n\nFairnamic GmbH\nNeue Messe 1 \n88046 Friedrichshafen \nGermany \n\
 nTelefon +49 7541 959 95 0 \nFax +49 7541 959 95 10 \n\nGoogle Maps Route:
  \nhttp://goo.gl/maps/wXSL8
DTSTART;TZID=Europe/Berlin:20260424T120000
DTEND;TZID=Europe/Berlin:20260424T130000
LOCATION:Konferenz-Zentrum Ost\, Raum Bern
ORGANIZER;CN=Fairnamic GmbH:mailto:info@fairnamic.com
END:VEVENT
BEGIN:VTIMEZONE
TZID:Europe/Berlin
BEGIN:STANDARD
DTSTART:20260101T000000
TZNAME:CET
TZOFFSETTO:+0100
TZOFFSETFROM:+0100
END:STANDARD
BEGIN:DAYLIGHT
DTSTART:20260329T030000
TZNAME:CEST
TZOFFSETTO:+0200
TZOFFSETFROM:+0100
END:DAYLIGHT
BEGIN:STANDARD
DTSTART:20261025T020000
TZNAME:CET
TZOFFSETTO:+0100
TZOFFSETFROM:+0200
END:STANDARD
END:VTIMEZONE
END:VCALENDAR
