BEGIN:VCALENDAR
PRODID:-//eluceo/ical//2.0/EN
VERSION:2.0
CALSCALE:GREGORIAN
BEGIN:VEVENT
UID:696b770bc3158305272c0a6d2f227360
DTSTAMP:20260421T023240Z
SUMMARY:AERO 2026 | Keine Turbulenzen am Himmel - Kauf und Verkauf eines Fl
 ugzeugs im und aus dem Ausland
DESCRIPTION:Tagesprogramm AERO 2026 - Keine Turbulenzen am Himmel - Kauf un
 d Verkauf eines Flugzeugs im und aus dem Ausland\nOrt: Konferenz-Zentrum O
 st\, Raum Lissabon\n\nFairnamic GmbH\nNeue Messe 1 \n88046 Friedrichshafen
  \nGermany \n\nTelefon +49 7541 959 95 0 \nFax +49 7541 959 95 10 \n\nGoog
 le Maps Route: \nhttp://goo.gl/maps/wXSL8
DTSTART;TZID=Europe/Berlin:20260422T160000
DTEND;TZID=Europe/Berlin:20260422T170000
LOCATION:Konferenz-Zentrum Ost\, Raum Lissabon
ORGANIZER;CN=Fairnamic GmbH:mailto:info@fairnamic.com
END:VEVENT
BEGIN:VTIMEZONE
TZID:Europe/Berlin
BEGIN:STANDARD
DTSTART:20260101T000000
TZNAME:CET
TZOFFSETTO:+0100
TZOFFSETFROM:+0100
END:STANDARD
BEGIN:DAYLIGHT
DTSTART:20260329T030000
TZNAME:CEST
TZOFFSETTO:+0200
TZOFFSETFROM:+0100
END:DAYLIGHT
BEGIN:STANDARD
DTSTART:20261025T020000
TZNAME:CET
TZOFFSETTO:+0100
TZOFFSETFROM:+0200
END:STANDARD
END:VTIMEZONE
END:VCALENDAR
