BEGIN:VCALENDAR
PRODID:-//eluceo/ical//2.0/EN
VERSION:2.0
CALSCALE:GREGORIAN
BEGIN:VEVENT
UID:8679bc697b0b5278b380589fbdd8fde6
DTSTAMP:20260421T023409Z
SUMMARY:AERO 2026 | Selfbriefing – mit den richtigen Flugwetterprodukten 
 Überraschungen vermeiden! - Ein Vortrag von Martin Wieczorrek (Deutscher 
 Wetterdienst)
DESCRIPTION:Tagesprogramm AERO 2026 - Selfbriefing – mit den richtigen Fl
 ugwetterprodukten Überraschungen vermeiden! - Ein Vortrag von Martin Wiec
 zorrek (Deutscher Wetterdienst)\nOrt: Konferenz-Zentrum Ost\, Raum Berlin\
 n\nFairnamic GmbH\nNeue Messe 1 \n88046 Friedrichshafen \nGermany \n\nTele
 fon +49 7541 959 95 0 \nFax +49 7541 959 95 10 \n\nGoogle Maps Route: \nht
 tp://goo.gl/maps/wXSL8
DTSTART;TZID=Europe/Berlin:20260423T120000
DTEND;TZID=Europe/Berlin:20260423T130000
LOCATION:Konferenz-Zentrum Ost\, Raum Berlin
ORGANIZER;CN=Fairnamic GmbH:mailto:info@fairnamic.com
END:VEVENT
BEGIN:VTIMEZONE
TZID:Europe/Berlin
BEGIN:STANDARD
DTSTART:20260101T000000
TZNAME:CET
TZOFFSETTO:+0100
TZOFFSETFROM:+0100
END:STANDARD
BEGIN:DAYLIGHT
DTSTART:20260329T030000
TZNAME:CEST
TZOFFSETTO:+0200
TZOFFSETFROM:+0100
END:DAYLIGHT
BEGIN:STANDARD
DTSTART:20261025T020000
TZNAME:CET
TZOFFSETTO:+0100
TZOFFSETFROM:+0200
END:STANDARD
END:VTIMEZONE
END:VCALENDAR
