BEGIN:VCALENDAR
PRODID:-//eluceo/ical//2.0/EN
VERSION:2.0
CALSCALE:GREGORIAN
BEGIN:VEVENT
UID:2685085be7a54457deb52765eb28832a
DTSTAMP:20260421T023112Z
SUMMARY:AERO 2026 | Keeping up with regulation changes without missing what
  matters
DESCRIPTION:Tagesprogramm AERO 2026 - Keeping up with regulation changes wi
 thout missing what matters\nOrt: AERO Conference Stage Foyer Ost\n\nFairna
 mic GmbH\nNeue Messe 1 \n88046 Friedrichshafen \nGermany \n\nTelefon +49 7
 541 959 95 0 \nFax +49 7541 959 95 10 \n\nGoogle Maps Route: \nhttp://goo.
 gl/maps/wXSL8
DTSTART;TZID=Europe/Berlin:20260422T153000
DTEND;TZID=Europe/Berlin:20260422T160000
LOCATION:AERO Conference Stage Foyer Ost
ORGANIZER;CN=Fairnamic GmbH:mailto:info@fairnamic.com
END:VEVENT
BEGIN:VTIMEZONE
TZID:Europe/Berlin
BEGIN:STANDARD
DTSTART:20260101T000000
TZNAME:CET
TZOFFSETTO:+0100
TZOFFSETFROM:+0100
END:STANDARD
BEGIN:DAYLIGHT
DTSTART:20260329T030000
TZNAME:CEST
TZOFFSETTO:+0200
TZOFFSETFROM:+0100
END:DAYLIGHT
BEGIN:STANDARD
DTSTART:20261025T020000
TZNAME:CET
TZOFFSETTO:+0100
TZOFFSETFROM:+0200
END:STANDARD
END:VTIMEZONE
END:VCALENDAR
