BEGIN:VCALENDAR
PRODID:-//eluceo/ical//2.0/EN
VERSION:2.0
CALSCALE:GREGORIAN
BEGIN:VEVENT
UID:efe3d11c2c3b17177e51ac3ad8c5ce5c
DTSTAMP:20260421T022949Z
SUMMARY:AERO 2026 | Nationale Luftverteidigung
DESCRIPTION:Tagesprogramm AERO 2026 - Nationale Luftverteidigung\nOrt: Konf
 erenz-Zentrum Ost\, Raum Paris\n\nFairnamic GmbH\nNeue Messe 1 \n88046 Fri
 edrichshafen \nGermany \n\nTelefon +49 7541 959 95 0 \nFax +49 7541 959 95
  10 \n\nGoogle Maps Route: \nhttp://goo.gl/maps/wXSL8
DTSTART;TZID=Europe/Berlin:20260423T140000
DTEND;TZID=Europe/Berlin:20260423T150000
LOCATION:Konferenz-Zentrum Ost\, Raum Paris
ORGANIZER;CN=Fairnamic GmbH:mailto:info@fairnamic.com
END:VEVENT
BEGIN:VTIMEZONE
TZID:Europe/Berlin
BEGIN:STANDARD
DTSTART:20260101T000000
TZNAME:CET
TZOFFSETTO:+0100
TZOFFSETFROM:+0100
END:STANDARD
BEGIN:DAYLIGHT
DTSTART:20260329T030000
TZNAME:CEST
TZOFFSETTO:+0200
TZOFFSETFROM:+0100
END:DAYLIGHT
BEGIN:STANDARD
DTSTART:20261025T020000
TZNAME:CET
TZOFFSETTO:+0100
TZOFFSETFROM:+0200
END:STANDARD
END:VTIMEZONE
END:VCALENDAR
