BEGIN:VCALENDAR
PRODID:-//eluceo/ical//2.0/EN
VERSION:2.0
CALSCALE:GREGORIAN
BEGIN:VEVENT
UID:116e8f9eab4c406e734d02a5c0679d5d
DTSTAMP:20260422T105351Z
SUMMARY:AERO 2026 | Umstieg aufs Glascockpit - braucht man da wirklich ein 
 Transition Training ?
DESCRIPTION:Tagesprogramm AERO 2026 - Umstieg aufs Glascockpit - braucht ma
 n da wirklich ein Transition Training ?\nOrt: Konferenz-Zentrum Ost\, Raum
  Bern\n\nFairnamic GmbH\nNeue Messe 1 \n88046 Friedrichshafen \nGermany \n
 \nTelefon +49 7541 959 95 0 \nFax +49 7541 959 95 10 \n\nGoogle Maps Route
 : \nhttp://goo.gl/maps/wXSL8
DTSTART;TZID=Europe/Berlin:20260424T160000
DTEND;TZID=Europe/Berlin:20260424T170000
LOCATION:Konferenz-Zentrum Ost\, Raum Bern
ORGANIZER;CN=Fairnamic GmbH:mailto:info@fairnamic.com
END:VEVENT
BEGIN:VTIMEZONE
TZID:Europe/Berlin
BEGIN:STANDARD
DTSTART:20260101T000000
TZNAME:CET
TZOFFSETTO:+0100
TZOFFSETFROM:+0100
END:STANDARD
BEGIN:DAYLIGHT
DTSTART:20260329T030000
TZNAME:CEST
TZOFFSETTO:+0200
TZOFFSETFROM:+0100
END:DAYLIGHT
BEGIN:STANDARD
DTSTART:20261025T020000
TZNAME:CET
TZOFFSETTO:+0100
TZOFFSETFROM:+0200
END:STANDARD
END:VTIMEZONE
END:VCALENDAR
