BEGIN:VCALENDAR
PRODID:-//eluceo/ical//2.0/EN
VERSION:2.0
CALSCALE:GREGORIAN
BEGIN:VEVENT
UID:789bd2fbe9fc6bd3c49ebf3fc900b7cb
DTSTAMP:20260421T022526Z
SUMMARY:AERO 2026 | Peschke Luftfahrtversicherungsmakler - Luftfahrtversich
 erungen für Vereine
DESCRIPTION:Tagesprogramm AERO 2026 - Peschke Luftfahrtversicherungsmakler 
 - Luftfahrtversicherungen für Vereine\nOrt: Konferenz-Zentrum Ost\, Raum 
 Lissabon\n\nFairnamic GmbH\nNeue Messe 1 \n88046 Friedrichshafen \nGermany
  \n\nTelefon +49 7541 959 95 0 \nFax +49 7541 959 95 10 \n\nGoogle Maps Ro
 ute: \nhttp://goo.gl/maps/wXSL8
DTSTART;TZID=Europe/Berlin:20260422T110000
DTEND;TZID=Europe/Berlin:20260422T120000
LOCATION:Konferenz-Zentrum Ost\, Raum Lissabon
ORGANIZER;CN=Fairnamic GmbH:mailto:info@fairnamic.com
END:VEVENT
BEGIN:VTIMEZONE
TZID:Europe/Berlin
BEGIN:STANDARD
DTSTART:20260101T000000
TZNAME:CET
TZOFFSETTO:+0100
TZOFFSETFROM:+0100
END:STANDARD
BEGIN:DAYLIGHT
DTSTART:20260329T030000
TZNAME:CEST
TZOFFSETTO:+0200
TZOFFSETFROM:+0100
END:DAYLIGHT
BEGIN:STANDARD
DTSTART:20261025T020000
TZNAME:CET
TZOFFSETTO:+0100
TZOFFSETFROM:+0200
END:STANDARD
END:VTIMEZONE
END:VCALENDAR
