BEGIN:VCALENDAR
PRODID:-//eluceo/ical//2.0/EN
VERSION:2.0
CALSCALE:GREGORIAN
BEGIN:VEVENT
UID:43dca58c221c1ef9f75e5ea61c1b3ed2
DTSTAMP:20260422T105515Z
SUMMARY:AERO 2026 | Vortrag zum Thema Kontrollen im SAFA-Programm
DESCRIPTION:Tagesprogramm AERO 2026 - Vortrag zum Thema Kontrollen im SAFA-
 Programm\nOrt: AERO Conference Stage Foyer West\n\nFairnamic GmbH\nNeue Me
 sse 1 \n88046 Friedrichshafen \nGermany \n\nTelefon +49 7541 959 95 0 \nFa
 x +49 7541 959 95 10 \n\nGoogle Maps Route: \nhttp://goo.gl/maps/wXSL8
DTSTART;TZID=Europe/Berlin:20260424T093000
DTEND;TZID=Europe/Berlin:20260424T100000
LOCATION:AERO Conference Stage Foyer West
ORGANIZER;CN=Fairnamic GmbH:mailto:info@fairnamic.com
END:VEVENT
BEGIN:VTIMEZONE
TZID:Europe/Berlin
BEGIN:STANDARD
DTSTART:20260101T000000
TZNAME:CET
TZOFFSETTO:+0100
TZOFFSETFROM:+0100
END:STANDARD
BEGIN:DAYLIGHT
DTSTART:20260329T030000
TZNAME:CEST
TZOFFSETTO:+0200
TZOFFSETFROM:+0100
END:DAYLIGHT
BEGIN:STANDARD
DTSTART:20261025T020000
TZNAME:CET
TZOFFSETTO:+0100
TZOFFSETFROM:+0200
END:STANDARD
END:VTIMEZONE
END:VCALENDAR
