BEGIN:VCALENDAR
PRODID:-//eluceo/ical//2.0/EN
VERSION:2.0
CALSCALE:GREGORIAN
BEGIN:VEVENT
UID:a157930faa5206f20911423ea46893ea
DTSTAMP:20260422T104804Z
SUMMARY:AERO 2026 | ICAO Sprachprüfungen FCL.055 Level 4/5
DESCRIPTION:Tagesprogramm AERO 2026 - ICAO Sprachprüfungen FCL.055 Level 4
 /5\nOrt: Raum Luxemburg zw. B3 / B4\, Raum Brüssel zw. B3 / B4\, Raum Kop
 enhagen zw. B3 / B4\, Raum Amsterdam zw. B3 / B4\n\nFairnamic GmbH\nNeue M
 esse 1 \n88046 Friedrichshafen \nGermany \n\nTelefon +49 7541 959 95 0 \nF
 ax +49 7541 959 95 10 \n\nGoogle Maps Route: \nhttp://goo.gl/maps/wXSL8
DTSTART;TZID=Europe/Berlin:20260424T090000
DTEND;TZID=Europe/Berlin:20260424T170000
LOCATION:Raum Luxemburg zw. B3 / B4\, Raum Brüssel zw. B3 / B4\, Raum Kope
 nhagen zw. B3 / B4\, Raum Amsterdam zw. B3 / B4
ORGANIZER;CN=Fairnamic GmbH:mailto:info@fairnamic.com
END:VEVENT
BEGIN:VTIMEZONE
TZID:Europe/Berlin
BEGIN:STANDARD
DTSTART:20260101T000000
TZNAME:CET
TZOFFSETTO:+0100
TZOFFSETFROM:+0100
END:STANDARD
BEGIN:DAYLIGHT
DTSTART:20260329T030000
TZNAME:CEST
TZOFFSETTO:+0200
TZOFFSETFROM:+0100
END:DAYLIGHT
BEGIN:STANDARD
DTSTART:20261025T020000
TZNAME:CET
TZOFFSETTO:+0100
TZOFFSETFROM:+0200
END:STANDARD
END:VTIMEZONE
END:VCALENDAR
