BEGIN:VCALENDAR
PRODID:-//eluceo/ical//2.0/EN
VERSION:2.0
CALSCALE:GREGORIAN
BEGIN:VEVENT
UID:abea67d2b33ac6d7a217295f45c07782
DTSTAMP:20260422T105055Z
SUMMARY:AERO 2026 | „Bipolarplatten für Aviation – Einfluss der Platte
 nstruktur auf Effizienz\, Gewicht und Performance zukünftiger Brennstoffz
 ellen“
DESCRIPTION:Tagesprogramm AERO 2026 - „Bipolarplatten für Aviation – E
 influss der Plattenstruktur auf Effizienz\, Gewicht und Performance zukün
 ftiger Brennstoffzellen“\nOrt: AERO Innovation Stage (Halle A7)\n\nFairn
 amic GmbH\nNeue Messe 1 \n88046 Friedrichshafen \nGermany \n\nTelefon +49 
 7541 959 95 0 \nFax +49 7541 959 95 10 \n\nGoogle Maps Route: \nhttp://goo
 .gl/maps/wXSL8
DTSTART;TZID=Europe/Berlin:20260424T140000
DTEND;TZID=Europe/Berlin:20260424T143000
LOCATION:AERO Innovation Stage (Halle A7)
ORGANIZER;CN=Fairnamic GmbH:mailto:info@fairnamic.com
END:VEVENT
BEGIN:VTIMEZONE
TZID:Europe/Berlin
BEGIN:STANDARD
DTSTART:20260101T000000
TZNAME:CET
TZOFFSETTO:+0100
TZOFFSETFROM:+0100
END:STANDARD
BEGIN:DAYLIGHT
DTSTART:20260329T030000
TZNAME:CEST
TZOFFSETTO:+0200
TZOFFSETFROM:+0100
END:DAYLIGHT
BEGIN:STANDARD
DTSTART:20261025T020000
TZNAME:CET
TZOFFSETTO:+0100
TZOFFSETFROM:+0200
END:STANDARD
END:VTIMEZONE
END:VCALENDAR
