BEGIN:VCALENDAR
PRODID:-//eluceo/ical//2.0/EN
VERSION:2.0
CALSCALE:GREGORIAN
BEGIN:VEVENT
UID:ac19bde698f56c3044ad7390389e50cc
DTSTAMP:20260422T104721Z
SUMMARY:AERO 2026 | How to enjoy aircraft ownership - A conference session 
 presented by Corporate Jet Investor
DESCRIPTION:Tagesprogramm AERO 2026 - How to enjoy aircraft ownership - A c
 onference session presented by Corporate Jet Investor\nOrt: AERO Business 
 Aviation Dome Stage\n\nFairnamic GmbH\nNeue Messe 1 \n88046 Friedrichshafe
 n \nGermany \n\nTelefon +49 7541 959 95 0 \nFax +49 7541 959 95 10 \n\nGoo
 gle Maps Route: \nhttp://goo.gl/maps/wXSL8
DTSTART;TZID=Europe/Berlin:20260423T114000
DTEND;TZID=Europe/Berlin:20260423T123000
LOCATION:AERO Business Aviation Dome Stage
ORGANIZER;CN=Fairnamic GmbH:mailto:info@fairnamic.com
END:VEVENT
BEGIN:VTIMEZONE
TZID:Europe/Berlin
BEGIN:STANDARD
DTSTART:20260101T000000
TZNAME:CET
TZOFFSETTO:+0100
TZOFFSETFROM:+0100
END:STANDARD
BEGIN:DAYLIGHT
DTSTART:20260329T030000
TZNAME:CEST
TZOFFSETTO:+0200
TZOFFSETFROM:+0100
END:DAYLIGHT
BEGIN:STANDARD
DTSTART:20261025T020000
TZNAME:CET
TZOFFSETTO:+0100
TZOFFSETFROM:+0200
END:STANDARD
END:VTIMEZONE
END:VCALENDAR
