BEGIN:VCALENDAR
PRODID:-//eluceo/ical//2.0/EN
VERSION:2.0
CALSCALE:GREGORIAN
BEGIN:VEVENT
UID:1a941d9f7bf573a03d37feea09c90342
DTSTAMP:20260421T022530Z
SUMMARY:AERO 2026 | Lessons Learned aus Funk und Flugplanaufgabe und was is
 t wichtig bei einer möglichen Suche
DESCRIPTION:Tagesprogramm AERO 2026 - Lessons Learned aus Funk und Flugplan
 aufgabe und was ist wichtig bei einer möglichen Suche\nOrt: Konferenz-Zen
 trum Ost\, Raum Lissabon\n\nFairnamic GmbH\nNeue Messe 1 \n88046 Friedrich
 shafen \nGermany \n\nTelefon +49 7541 959 95 0 \nFax +49 7541 959 95 10 \n
 \nGoogle Maps Route: \nhttp://goo.gl/maps/wXSL8
DTSTART;TZID=Europe/Berlin:20260423T130000
DTEND;TZID=Europe/Berlin:20260423T140000
LOCATION:Konferenz-Zentrum Ost\, Raum Lissabon
ORGANIZER;CN=Fairnamic GmbH:mailto:info@fairnamic.com
END:VEVENT
BEGIN:VTIMEZONE
TZID:Europe/Berlin
BEGIN:STANDARD
DTSTART:20260101T000000
TZNAME:CET
TZOFFSETTO:+0100
TZOFFSETFROM:+0100
END:STANDARD
BEGIN:DAYLIGHT
DTSTART:20260329T030000
TZNAME:CEST
TZOFFSETTO:+0200
TZOFFSETFROM:+0100
END:DAYLIGHT
BEGIN:STANDARD
DTSTART:20261025T020000
TZNAME:CET
TZOFFSETTO:+0100
TZOFFSETFROM:+0200
END:STANDARD
END:VTIMEZONE
END:VCALENDAR
