BEGIN:VCALENDAR
PRODID:-//eluceo/ical//2.0/EN
VERSION:2.0
CALSCALE:GREGORIAN
BEGIN:VEVENT
UID:2128d3042a48f8c80639b198c63c8bd2
DTSTAMP:20260421T135612Z
SUMMARY:AERO 2026 | Pressetermin | Pressekonferenz Bristell by BRM AERO & H
 55
DESCRIPTION:Pressetermin AERO 2026 - Pressekonferenz Bristell by BRM AERO &
  H55\nOrt: Halle A7 | Stand 300\n\nFairnamic GmbH\nNeue Messe 1 \n88046 Fr
 iedrichshafen \nGermany \n\nTelefon +49 7541 959 95 0 \nFax +49 7541 959 9
 5 10 \n\nGoogle Maps Route: \nhttp://goo.gl/maps/wXSL8
DTSTART;TZID=Europe/Berlin:20260423T091500
DTEND;TZID=Europe/Berlin:20260423T100000
LOCATION:Halle A7 | Stand 300
ORGANIZER;CN=Fairnamic GmbH:mailto:info@fairnamic.com
END:VEVENT
BEGIN:VTIMEZONE
TZID:Europe/Berlin
BEGIN:STANDARD
DTSTART:20260101T000000
TZNAME:CET
TZOFFSETTO:+0100
TZOFFSETFROM:+0100
END:STANDARD
BEGIN:DAYLIGHT
DTSTART:20260329T030000
TZNAME:CEST
TZOFFSETTO:+0200
TZOFFSETFROM:+0100
END:DAYLIGHT
BEGIN:STANDARD
DTSTART:20261025T020000
TZNAME:CET
TZOFFSETTO:+0100
TZOFFSETFROM:+0200
END:STANDARD
END:VTIMEZONE
END:VCALENDAR
