BEGIN:VCALENDAR
PRODID:-//eluceo/ical//2.0/EN
VERSION:2.0
CALSCALE:GREGORIAN
BEGIN:VEVENT
UID:48408b88b05ab9ad55a2b1b33a1d458b
DTSTAMP:20260422T104618Z
SUMMARY:AERO 2026 | Check in for a fascinating career in Aviation
DESCRIPTION:Tagesprogramm AERO 2026 - Check in for a fascinating career in 
 Aviation\nOrt: Konferenz -Zentrum Ost\, Raum Oslo\n\nFairnamic GmbH\nNeue 
 Messe 1 \n88046 Friedrichshafen \nGermany \n\nTelefon +49 7541 959 95 0 \n
 Fax +49 7541 959 95 10 \n\nGoogle Maps Route: \nhttp://goo.gl/maps/wXSL8
DTSTART;TZID=Europe/Berlin:20260424T103000
DTEND;TZID=Europe/Berlin:20260424T110000
LOCATION:Konferenz -Zentrum Ost\, Raum Oslo
ORGANIZER;CN=Fairnamic GmbH:mailto:info@fairnamic.com
END:VEVENT
BEGIN:VTIMEZONE
TZID:Europe/Berlin
BEGIN:STANDARD
DTSTART:20260101T000000
TZNAME:CET
TZOFFSETTO:+0100
TZOFFSETFROM:+0100
END:STANDARD
BEGIN:DAYLIGHT
DTSTART:20260329T030000
TZNAME:CEST
TZOFFSETTO:+0200
TZOFFSETFROM:+0100
END:DAYLIGHT
BEGIN:STANDARD
DTSTART:20261025T020000
TZNAME:CET
TZOFFSETTO:+0100
TZOFFSETFROM:+0200
END:STANDARD
END:VTIMEZONE
END:VCALENDAR
