BEGIN:VCALENDAR
PRODID:-//eluceo/ical//2.0/EN
VERSION:2.0
CALSCALE:GREGORIAN
BEGIN:VEVENT
UID:ea997266f6aee3850f99ef1d0460b12c
DTSTAMP:20260421T134015Z
SUMMARY:AERO 2026 | Inside Modern Pilot Training: Pilatus PC-12 Training Be
 yond the Aircraft
DESCRIPTION:Tagesprogramm AERO 2026 - Inside Modern Pilot Training: Pilatus
  PC-12 Training Beyond the Aircraft\nOrt: Konferenz-Zentrum Ost\, Raum Lon
 don\n\nFairnamic GmbH\nNeue Messe 1 \n88046 Friedrichshafen \nGermany \n\n
 Telefon +49 7541 959 95 0 \nFax +49 7541 959 95 10 \n\nGoogle Maps Route: 
 \nhttp://goo.gl/maps/wXSL8
DTSTART;TZID=Europe/Berlin:20260423T150000
DTEND;TZID=Europe/Berlin:20260423T160000
LOCATION:Konferenz-Zentrum Ost\, Raum London
ORGANIZER;CN=Fairnamic GmbH:mailto:info@fairnamic.com
END:VEVENT
BEGIN:VTIMEZONE
TZID:Europe/Berlin
BEGIN:STANDARD
DTSTART:20260101T000000
TZNAME:CET
TZOFFSETTO:+0100
TZOFFSETFROM:+0100
END:STANDARD
BEGIN:DAYLIGHT
DTSTART:20260329T030000
TZNAME:CEST
TZOFFSETTO:+0200
TZOFFSETFROM:+0100
END:DAYLIGHT
BEGIN:STANDARD
DTSTART:20261025T020000
TZNAME:CET
TZOFFSETTO:+0100
TZOFFSETFROM:+0200
END:STANDARD
END:VTIMEZONE
END:VCALENDAR
