BEGIN:VCALENDAR
PRODID:-//eluceo/ical//2.0/EN
VERSION:2.0
CALSCALE:GREGORIAN
BEGIN:VEVENT
UID:6c2afca7dc98119e29f52816d2f66131
DTSTAMP:20260422T104932Z
SUMMARY:AERO 2026 | Between Perception and Reality: My Experience as a Fema
 le Pilot
DESCRIPTION:Tagesprogramm AERO 2026 - Between Perception and Reality: My Ex
 perience as a Female Pilot\nOrt: AERO Business Aviation Dome Stage\n\nFair
 namic GmbH\nNeue Messe 1 \n88046 Friedrichshafen \nGermany \n\nTelefon +49
  7541 959 95 0 \nFax +49 7541 959 95 10 \n\nGoogle Maps Route: \nhttp://go
 o.gl/maps/wXSL8
DTSTART;TZID=Europe/Berlin:20260424T133000
DTEND;TZID=Europe/Berlin:20260424T140000
LOCATION:AERO Business Aviation Dome Stage
ORGANIZER;CN=Fairnamic GmbH:mailto:info@fairnamic.com
END:VEVENT
BEGIN:VTIMEZONE
TZID:Europe/Berlin
BEGIN:STANDARD
DTSTART:20260101T000000
TZNAME:CET
TZOFFSETTO:+0100
TZOFFSETFROM:+0100
END:STANDARD
BEGIN:DAYLIGHT
DTSTART:20260329T030000
TZNAME:CEST
TZOFFSETTO:+0200
TZOFFSETFROM:+0100
END:DAYLIGHT
BEGIN:STANDARD
DTSTART:20261025T020000
TZNAME:CET
TZOFFSETTO:+0100
TZOFFSETFROM:+0200
END:STANDARD
END:VTIMEZONE
END:VCALENDAR
