BEGIN:VCALENDAR
PRODID:-//eluceo/ical//2.0/EN
VERSION:2.0
CALSCALE:GREGORIAN
BEGIN:VEVENT
UID:aaaa72459c9ece53227c89d28e2661d6
DTSTAMP:20260422T104624Z
SUMMARY:AERO 2026 | Kappenverlosung - Fliegermagazin
DESCRIPTION:Tagesprogramm AERO 2026 - Kappenverlosung - Fliegermagazin\nOrt
 : AERO Konferenzbühne Ost\n\nFairnamic GmbH\nNeue Messe 1 \n88046 Friedri
 chshafen \nGermany \n\nTelefon +49 7541 959 95 0 \nFax +49 7541 959 95 10 
 \n\nGoogle Maps Route: \nhttp://goo.gl/maps/wXSL8
DTSTART;TZID=Europe/Berlin:20260424T160000
DTEND;TZID=Europe/Berlin:20260424T161000
LOCATION:AERO Konferenzbühne Ost
ORGANIZER;CN=Fairnamic GmbH:mailto:info@fairnamic.com
END:VEVENT
BEGIN:VTIMEZONE
TZID:Europe/Berlin
BEGIN:STANDARD
DTSTART:20260101T000000
TZNAME:CET
TZOFFSETTO:+0100
TZOFFSETFROM:+0100
END:STANDARD
BEGIN:DAYLIGHT
DTSTART:20260329T030000
TZNAME:CEST
TZOFFSETTO:+0200
TZOFFSETFROM:+0100
END:DAYLIGHT
BEGIN:STANDARD
DTSTART:20261025T020000
TZNAME:CET
TZOFFSETTO:+0100
TZOFFSETFROM:+0200
END:STANDARD
END:VTIMEZONE
END:VCALENDAR
